BEGIN:VCALENDAR
VERSION:2.0
PRODID:-//Colegio Kids &#039;n Tas - ECPv5.1.5//NONSGML v1.0//EN
CALSCALE:GREGORIAN
METHOD:PUBLISH
X-WR-CALNAME:Colegio Kids &#039;n Tas
X-ORIGINAL-URL:https://kidsandtas.edu.do
X-WR-CALDESC:Events for Colegio Kids &#039;n Tas
BEGIN:VTIMEZONE
TZID:UTC
BEGIN:STANDARD
TZOFFSETFROM:+0000
TZOFFSETTO:+0000
TZNAME:UTC
DTSTART:20230101T000000
END:STANDARD
END:VTIMEZONE
BEGIN:VEVENT
DTSTART;VALUE=DATE:20230215
DTEND;VALUE=DATE:20230217
DTSTAMP:20260425T212045
CREATED:20230215T181340Z
LAST-MODIFIED:20230215T181340Z
UID:408-1676419200-1676591999@kidsandtas.edu.do
SUMMARY:14 Febrero San Valentin 2023
DESCRIPTION:\n		\n			#gallery-1 {\n				margin: auto;\n			}\n			#gallery-1 .gallery-item {\n				float: left;\n				margin-top: 10px;\n				text-align: center;\n				width: 33%;\n			}\n			#gallery-1 img {\n				border: 2px solid #cfcfcf;\n			}\n			#gallery-1 .gallery-caption {\n				margin-left: 0;\n			}\n			/* see gallery_shortcode() in wp-includes/media.php */\n		\n		\n			\n				\n			\n			\n				\n			\n			\n				\n			\n		\n\n
URL:https://kidsandtas.edu.do/evento/14-febrero-san-valentin-2023/
END:VEVENT
END:VCALENDAR