BEGIN:VCALENDAR
VERSION:2.0
PRODID:-//Colegio Kids &#039;n Tas - ECPv5.1.5//NONSGML v1.0//EN
CALSCALE:GREGORIAN
METHOD:PUBLISH
X-WR-CALNAME:Colegio Kids &#039;n Tas
X-ORIGINAL-URL:https://kidsandtas.edu.do
X-WR-CALDESC:Events for Colegio Kids &#039;n Tas
BEGIN:VTIMEZONE
TZID:UTC
BEGIN:STANDARD
TZOFFSETFROM:+0000
TZOFFSETTO:+0000
TZNAME:UTC
DTSTART:20230101T000000
END:STANDARD
END:VTIMEZONE
BEGIN:VEVENT
DTSTART;TZID=UTC:20230224T080000
DTEND;TZID=UTC:20230225T170000
DTSTAMP:20260425T194812
CREATED:20230221T133013Z
LAST-MODIFIED:20230221T133028Z
UID:475-1677225600-1677344400@kidsandtas.edu.do
SUMMARY:Bailes y Actividades Efemérides Patria
DESCRIPTION: \n
URL:https://kidsandtas.edu.do/evento/bailes-y-actividades-efemerides-patria/
END:VEVENT
END:VCALENDAR